BEGIN:VCALENDAR
VERSION:2.0
PRODID:-//wp-events-plugin.com//6.4.7.2//EN
TZID:Europe/Copenhagen
X-WR-TIMEZONE:Europe/Copenhagen
BEGIN:VEVENT
UID:10@sydoestjyskdommer.dk
DTSTART;TZID=Europe/Copenhagen:20250824T100000
DTEND;TZID=Europe/Copenhagen:20250824T130000
DTSTAMP:20250622T185432Z
URL:http://www.sydoestjyskdommer.dk/events/sommefest-2025/
SUMMARY:Sommefest 2025
DESCRIPTION:Så er årets sommerfest planlagt.\nSkynd dig at tilmelde dig\,
  før din dommerkollega.
ATTACH;FMTTYPE=image/jpeg:http://www.sydoestjyskdommer.dk/wp-content/uploa
 ds/2025/06/Colorful-Leaves-Illustrative-Summer-Party-Invitation.png
END:VEVENT
BEGIN:VTIMEZONE
TZID:Europe/Copenhagen
X-LIC-LOCATION:Europe/Copenhagen
BEGIN:DAYLIGHT
DTSTART:20250330T030000
TZOFFSETFROM:+0100
TZOFFSETTO:+0200
TZNAME:CEST
END:DAYLIGHT
END:VTIMEZONE
END:VCALENDAR